BEGIN:VCALENDAR
VERSION:2.0
PRODID:-//Contratero//ES
CALSCALE:GREGORIAN
METHOD:PUBLISH
BEGIN:VEVENT
UID:CON 50/2025 SE ABSA@contratero.es
DTSTAMP:20260420T040916Z
DTSTART:20251103T235959
DTEND:20251104T005959
SUMMARY:Cierre: Contratación del servicio de servidor para la web 
DESCRIPTION:Contratación del servicio de servidor para la web del archivo municipal del Ilmo. Ayuntamiento de Aranjuez.\\n\\nOrganismo: Junta de Gobierno del Ayuntamiento de Aranjuez\\n\\nVer en Contratero: https://contratero.es/contracts/CON 50/2025 SE ABSA
URL:https://contratero.es/contracts/CON 50/2025 SE ABSA
STATUS:CONFIRMED
BEGIN:VALARM
TRIGGER:-P1D
ACTION:DISPLAY
DESCRIPTION:Recordatorio: Contratación del servicio de s
END:VALARM
END:VEVENT
END:VCALENDAR